Workbook

Sheet Release Lifecycle
A1: BlueMarble — Release Support Lifecycle
A2: BlueMarble Commerce & BlueMarble B2B · GA / End-of-Standard-Support / End-of-Extended-Support
A3: Rule: EoS(vN) = GA(vN+2) · EoSS(vN) = GA(vN+4). Published dates snap forward to the next 30 Apr / 31 Oct per policy SWPSLP00. Offsets and as-of date are levers on the Assumptions sheet.
A4: Source: Aha! workspace DAPPS (BlueMarble Commerce), releases API. GA dates are recorded data; all EoS/EoSS dates are derived — no such fields exist in Aha.
E5: End of Standard Support | G5: End of Extended Support
A6: Version | B6: Release | C6: Products | D6: GA date | E6: EoS — exact | F6: EoS — published | G6: EoSS — exact | H6: EoSS — published | I6: Std support (months) | J6: Total support (months) | K6: Status
A7: v2.3 | B7: BlueMarble Commerce Jul 2019 | C7: Commerce | D7: 43678 | E7: =IF(ROW()+Assumptions!$B$4>32,"n/a",OFFSET(D7,Assumptions!$B$4,0)) -> 43862 | F7: =IF(NOT(ISNUMBER(E7)),"n/a",IF(E7<=DATE(YEAR(E7),4,30),DATE(YEAR(E7),4,30),IF(E7<=DATE(YEAR(E7),10,31),DATE(YEAR(E7),10,31),DATE(YEAR(E7)+1,4,30)))) -> 43951 | G7: =IF(ROW()+Assumptions!$B$5>32,"n/a",OFFSET(D7,Assumptions!$B$5,0)) -> 44044 | H7: =IF(NOT(ISNUMBER(G7)),"n/a",IF(G7<=DATE(YEAR(G7),4,30),DATE(YEAR(G7),4,30),IF(G7<=DATE(YEAR(G7),10,31),DATE(YEAR(G7),10,31),DATE(YEAR(G7)+1,4,30)))) -> 44135 | I7: =IF(NOT(ISNUMBER(E7)),"n/a",ROUND((E7-D7)/30.44,0)) -> 6 | J7: =IF(NOT(ISNUMBER(G7)),"n/a",ROUND((G7-D7)/30.44,0)) -> 12 | K7: =IF(D7>Assumptions!$B$3,"Planned",IF(AND(ISNUMBER(H7),Assumptions!$B$3>H7),"Out of support",IF(AND(ISNUMBER(F7),Assumptions!$B$3>F7),"Extended support","Standard support"))) -> Out of support
A8: v2.4 | B8: BlueMarble Commerce Oct 2019 | C8: Commerce | D8: 43770 | E8: =IF(ROW()+Assumptions!$B$4>32,"n/a",OFFSET(D8,Assumptions!$B$4,0)) -> 43952 | F8: =IF(NOT(ISNUMBER(E8)),"n/a",IF(E8<=DATE(YEAR(E8),4,30),DATE(YEAR(E8),4,30),IF(E8<=DATE(YEAR(E8),10,31),DATE(YEAR(E8),10,31),DATE(YEAR(E8)+1,4,30)))) -> 44135 | G8: =IF(ROW()+Assumptions!$B$5>32,"n/a",OFFSET(D8,Assumptions!$B$5,0)) -> 44134 | H8: =IF(NOT(ISNUMBER(G8)),"n/a",IF(G8<=DATE(YEAR(G8),4,30),DATE(YEAR(G8),4,30),IF(G8<=DATE(YEAR(G8),10,31),DATE(YEAR(G8),10,31),DATE(YEAR(G8)+1,4,30)))) -> 44135 | I8: =IF(NOT(ISNUMBER(E8)),"n/a",ROUND((E8-D8)/30.44,0)) -> 6 | J8: =IF(NOT(ISNUMBER(G8)),"n/a",ROUND((G8-D8)/30.44,0)) -> 12 | K8: =IF(D8>Assumptions!$B$3,"Planned",IF(AND(ISNUMBER(H8),Assumptions!$B$3>H8),"Out of support",IF(AND(ISNUMBER(F8),Assumptions!$B$3>F8),"Extended support","Standard support"))) -> Out of support
A9: v3.1 | B9: BlueMarble Commerce Jan 2020 | C9: Commerce | D9: 43862 | E9: =IF(ROW()+Assumptions!$B$4>32,"n/a",OFFSET(D9,Assumptions!$B$4,0)) -> 44044 | F9: =IF(NOT(ISNUMBER(E9)),"n/a",IF(E9<=DATE(YEAR(E9),4,30),DATE(YEAR(E9),4,30),IF(E9<=DATE(YEAR(E9),10,31),DATE(YEAR(E9),10,31),DATE(YEAR(E9)+1,4,30)))) -> 44135 | G9: =IF(ROW()+Assumptions!$B$5>32,"n/a",OFFSET(D9,Assumptions!$B$5,0)) -> 44225 | H9: =IF(NOT(ISNUMBER(G9)),"n/a",IF(G9<=DATE(YEAR(G9),4,30),DATE(YEAR(G9),4,30),IF(G9<=DATE(YEAR(G9),10,31),DATE(YEAR(G9),10,31),DATE(YEAR(G9)+1,4,30)))) -> 44316 | I9: =IF(NOT(ISNUMBER(E9)),"n/a",ROUND((E9-D9)/30.44,0)) -> 6 | J9: =IF(NOT(ISNUMBER(G9)),"n/a",ROUND((G9-D9)/30.44,0)) -> 12 | K9: =IF(D9>Assumptions!$B$3,"Planned",IF(AND(ISNUMBER(H9),Assumptions!$B$3>H9),"Out of support",IF(AND(ISNUMBER(F9),Assumptions!$B$3>F9),"Extended support","Standard support"))) -> Out of support
A10: v3.2 | B10: BlueMarble Commerce Apr 2020 | C10: Commerce | D10: 43952 | E10: =IF(ROW()+Assumptions!$B$4>32,"n/a",OFFSET(D10,Assumptions!$B$4,0)) -> 44134 | F10: =IF(NOT(ISNUMBER(E10)),"n/a",IF(E10<=DATE(YEAR(E10),4,30),DATE(YEAR(E10),4,30),IF(E10<=DATE(YEAR(E10),10,31),DATE(YEAR(E10),10,31),DATE(YEAR(E10)+1,4,30)))) -> 44135 | G10: =IF(ROW()+Assumptions!$B$5>32,"n/a",OFFSET(D10,Assumptions!$B$5,0)) -> 44316 | H10: =IF(NOT(ISNUMBER(G10)),"n/a",IF(G10<=DATE(YEAR(G10),4,30),DATE(YEAR(G10),4,30),IF(G10<=DATE(YEAR(G10),10,31),DATE(YEAR(G10),10,31),DATE(YEAR(G10)+1,4,30)))) -> 44316 | I10: =IF(NOT(ISNUMBER(E10)),"n/a",ROUND((E10-D10)/30.44,0)) -> 6 | J10: =IF(NOT(ISNUMBER(G10)),"n/a",ROUND((G10-D10)/30.44,0)) -> 12 | K10: =IF(D10>Assumptions!$B$3,"Planned",IF(AND(ISNUMBER(H10),Assumptions!$B$3>H10),"Out of support",IF(AND(ISNUMBER(F10),Assumptions!$B$3>F10),"Extended support","Standard support"))) -> Out of support
A11: v3.3 | B11: BlueMarble Commerce Jul 2020 | C11: Commerce | D11: 44044 | E11: =IF(ROW()+Assumptions!$B$4>32,"n/a",OFFSET(D11,Assumptions!$B$4,0)) -> 44225 | F11: =IF(NOT(ISNUMBER(E11)),"n/a",IF(E11<=DATE(YEAR(E11),4,30),DATE(YEAR(E11),4,30),IF(E11<=DATE(YEAR(E11),10,31),DATE(YEAR(E11),10,31),DATE(YEAR(E11)+1,4,30)))) -> 44316 | G11: =IF(ROW()+Assumptions!$B$5>32,"n/a",OFFSET(D11,Assumptions!$B$5,0)) -> 44408 | H11: =IF(NOT(ISNUMBER(G11)),"n/a",IF(G11<=DATE(YEAR(G11),4,30),DATE(YEAR(G11),4,30),IF(G11<=DATE(YEAR(G11),10,31),DATE(YEAR(G11),10,31),DATE(YEAR(G11)+1,4,30)))) -> 44500 | I11: =IF(NOT(ISNUMBER(E11)),"n/a",ROUND((E11-D11)/30.44,0)) -> 6 | J11: =IF(NOT(ISNUMBER(G11)),"n/a",ROUND((G11-D11)/30.44,0)) -> 12 | K11: =IF(D11>Assumptions!$B$3,"Planned",IF(AND(ISNUMBER(H11),Assumptions!$B$3>H11),"Out of support",IF(AND(ISNUMBER(F11),Assumptions!$B$3>F11),"Extended support","Standard support"))) -> Out of support
A12: v3.4 | B12: BlueMarble Commerce Oct 2020 | C12: Commerce | D12: 44134 | E12: =IF(ROW()+Assumptions!$B$4>32,"n/a",OFFSET(D12,Assumptions!$B$4,0)) -> 44316 | F12: =IF(NOT(ISNUMBER(E12)),"n/a",IF(E12<=DATE(YEAR(E12),4,30),DATE(YEAR(E12),4,30),IF(E12<=DATE(YEAR(E12),10,31),DATE(YEAR(E12),10,31),DATE(YEAR(E12)+1,4,30)))) -> 44316 | G12: =IF(ROW()+Assumptions!$B$5>32,"n/a",OFFSET(D12,Assumptions!$B$5,0)) -> 44500 | H12: =IF(NOT(ISNUMBER(G12)),"n/a",IF(G12<=DATE(YEAR(G12),4,30),DATE(YEAR(G12),4,30),IF(G12<=DATE(YEAR(G12),10,31),DATE(YEAR(G12),10,31),DATE(YEAR(G12)+1,4,30)))) -> 44500 | I12: =IF(NOT(ISNUMBER(E12)),"n/a",ROUND((E12-D12)/30.44,0)) -> 6 | J12: =IF(NOT(ISNUMBER(G12)),"n/a",ROUND((G12-D12)/30.44,0)) -> 12 | K12: =IF(D12>Assumptions!$B$3,"Planned",IF(AND(ISNUMBER(H12),Assumptions!$B$3>H12),"Out of support",IF(AND(ISNUMBER(F12),Assumptions!$B$3>F12),"Extended support","Standard support"))) -> Out of support
A13: v3.5 | B13: BlueMarble Commerce Jan 2021 | C13: Commerce | D13: 44225 | E13: =IF(ROW()+Assumptions!$B$4>32,"n/a",OFFSET(D13,Assumptions!$B$4,0)) -> 44408 | F13: =IF(NOT(ISNUMBER(E13)),"n/a",IF(E13<=DATE(YEAR(E13),4,30),DATE(YEAR(E13),4,30),IF(E13<=DATE(YEAR(E13),10,31),DATE(YEAR(E13),10,31),DATE(YEAR(E13)+1,4,30)))) -> 44500 | G13: =IF(ROW()+Assumptions!$B$5>32,"n/a",OFFSET(D13,Assumptions!$B$5,0)) -> 44592 | H13: =IF(NOT(ISNUMBER(G13)),"n/a",IF(G13<=DATE(YEAR(G13),4,30),DATE(YEAR(G13),4,30),IF(G13<=DATE(YEAR(G13),10,31),DATE(YEAR(G13),10,31),DATE(YEAR(G13)+1,4,30)))) -> 44681 | I13: =IF(NOT(ISNUMBER(E13)),"n/a",ROUND((E13-D13)/30.44,0)) -> 6 | J13: =IF(NOT(ISNUMBER(G13)),"n/a",ROUND((G13-D13)/30.44,0)) -> 12 | K13: =IF(D13>Assumptions!$B$3,"Planned",IF(AND(ISNUMBER(H13),Assumptions!$B$3>H13),"Out of support",IF(AND(ISNUMBER(F13),Assumptions!$B$3>F13),"Extended support","Standard support"))) -> Out of support
A14: v3.6 | B14: BlueMarble Commerce Apr 2021 | C14: Commerce | D14: 44316 | E14: =IF(ROW()+Assumptions!$B$4>32,"n/a",OFFSET(D14,Assumptions!$B$4,0)) -> 44500 | F14: =IF(NOT(ISNUMBER(E14)),"n/a",IF(E14<=DATE(YEAR(E14),4,30),DATE(YEAR(E14),4,30),IF(E14<=DATE(YEAR(E14),10,31),DATE(YEAR(E14),10,31),DATE(YEAR(E14)+1,4,30)))) -> 44500 | G14: =IF(ROW()+Assumptions!$B$5>32,"n/a",OFFSET(D14,Assumptions!$B$5,0)) -> 44680 | H14: =IF(NOT(ISNUMBER(G14)),"n/a",IF(G14<=DATE(YEAR(G14),4,30),DATE(YEAR(G14),4,30),IF(G14<=DATE(YEAR(G14),10,31),DATE(YEAR(G14),10,31),DATE(YEAR(G14)+1,4,30)))) -> 44681 | I14: =IF(NOT(ISNUMBER(E14)),"n/a",ROUND((E14-D14)/30.44,0)) -> 6 | J14: =IF(NOT(ISNUMBER(G14)),"n/a",ROUND((G14-D14)/30.44,0)) -> 12 | K14: =IF(D14>Assumptions!$B$3,"Planned",IF(AND(ISNUMBER(H14),Assumptions!$B$3>H14),"Out of support",IF(AND(ISNUMBER(F14),Assumptions!$B$3>F14),"Extended support","Standard support"))) -> Out of support
A15: v3.7 | B15: BlueMarble Commerce Jul 2021 | C15: Commerce | D15: 44408 | E15: =IF(ROW()+Assumptions!$B$4>32,"n/a",OFFSET(D15,Assumptions!$B$4,0)) -> 44592 | F15: =IF(NOT(ISNUMBER(E15)),"n/a",IF(E15<=DATE(YEAR(E15),4,30),DATE(YEAR(E15),4,30),IF(E15<=DATE(YEAR(E15),10,31),DATE(YEAR(E15),10,31),DATE(YEAR(E15)+1,4,30)))) -> 44681 | G15: =IF(ROW()+Assumptions!$B$5>32,"n/a",OFFSET(D15,Assumptions!$B$5,0)) -> 44771 | H15: =IF(NOT(ISNUMBER(G15)),"n/a",IF(G15<=DATE(YEAR(G15),4,30),DATE(YEAR(G15),4,30),IF(G15<=DATE(YEAR(G15),10,31),DATE(YEAR(G15),10,31),DATE(YEAR(G15)+1,4,30)))) -> 44865 | I15: =IF(NOT(ISNUMBER(E15)),"n/a",ROUND((E15-D15)/30.44,0)) -> 6 | J15: =IF(NOT(ISNUMBER(G15)),"n/a",ROUND((G15-D15)/30.44,0)) -> 12 | K15: =IF(D15>Assumptions!$B$3,"Planned",IF(AND(ISNUMBER(H15),Assumptions!$B$3>H15),"Out of support",IF(AND(ISNUMBER(F15),Assumptions!$B$3>F15),"Extended support","Standard support"))) -> Out of support
A16: v3.8 | B16: BlueMarble Commerce Oct 2021 | C16: Commerce, B2B | D16: 44500 | E16: =IF(ROW()+Assumptions!$B$4>32,"n/a",OFFSET(D16,Assumptions!$B$4,0)) -> 44680 | F16: =IF(NOT(ISNUMBER(E16)),"n/a",IF(E16<=DATE(YEAR(E16),4,30),DATE(YEAR(E16),4,30),IF(E16<=DATE(YEAR(E16),10,31),DATE(YEAR(E16),10,31),DATE(YEAR(E16)+1,4,30)))) -> 44681 | G16: =IF(ROW()+Assumptions!$B$5>32,"n/a",OFFSET(D16,Assumptions!$B$5,0)) -> 44865 | H16: =IF(NOT(ISNUMBER(G16)),"n/a",IF(G16<=DATE(YEAR(G16),4,30),DATE(YEAR(G16),4,30),IF(G16<=DATE(YEAR(G16),10,31),DATE(YEAR(G16),10,31),DATE(YEAR(G16)+1,4,30)))) -> 44865 | I16: =IF(NOT(ISNUMBER(E16)),"n/a",ROUND((E16-D16)/30.44,0)) -> 6 | J16: =IF(NOT(ISNUMBER(G16)),"n/a",ROUND((G16-D16)/30.44,0)) -> 12 | K16: =IF(D16>Assumptions!$B$3,"Planned",IF(AND(ISNUMBER(H16),Assumptions!$B$3>H16),"Out of support",IF(AND(ISNUMBER(F16),Assumptions!$B$3>F16),"Extended support","Standard support"))) -> Out of support
A17: v3.9 | B17: BlueMarble Commerce Jan 2022 | C17: Commerce, B2B | D17: 44592 | E17: =IF(ROW()+Assumptions!$B$4>32,"n/a",OFFSET(D17,Assumptions!$B$4,0)) -> 44771 | F17: =IF(NOT(ISNUMBER(E17)),"n/a",IF(E17<=DATE(YEAR(E17),4,30),DATE(YEAR(E17),4,30),IF(E17<=DATE(YEAR(E17),10,31),DATE(YEAR(E17),10,31),DATE(YEAR(E17)+1,4,30)))) -> 44865 | G17: =IF(ROW()+Assumptions!$B$5>32,"n/a",OFFSET(D17,Assumptions!$B$5,0)) -> 44957 | H17: =IF(NOT(ISNUMBER(G17)),"n/a",IF(G17<=DATE(YEAR(G17),4,30),DATE(YEAR(G17),4,30),IF(G17<=DATE(YEAR(G17),10,31),DATE(YEAR(G17),10,31),DATE(YEAR(G17)+1,4,30)))) -> 45046 | I17: =IF(NOT(ISNUMBER(E17)),"n/a",ROUND((E17-D17)/30.44,0)) -> 6 | J17: =IF(NOT(ISNUMBER(G17)),"n/a",ROUND((G17-D17)/30.44,0)) -> 12 | K17: =IF(D17>Assumptions!$B$3,"Planned",IF(AND(ISNUMBER(H17),Assumptions!$B$3>H17),"Out of support",IF(AND(ISNUMBER(F17),Assumptions!$B$3>F17),"Extended support","Standard support"))) -> Out of support
A18: v3.10 | B18: BlueMarble Commerce Apr 2022 | C18: Commerce, B2B | D18: 44680 | E18: =IF(ROW()+Assumptions!$B$4>32,"n/a",OFFSET(D18,Assumptions!$B$4,0)) -> 44865 | F18: =IF(NOT(ISNUMBER(E18)),"n/a",IF(E18<=DATE(YEAR(E18),4,30),DATE(YEAR(E18),4,30),IF(E18<=DATE(YEAR(E18),10,31),DATE(YEAR(E18),10,31),DATE(YEAR(E18)+1,4,30)))) -> 44865 | G18: =IF(ROW()+Assumptions!$B$5>32,"n/a",OFFSET(D18,Assumptions!$B$5,0)) -> 45047 | H18: =IF(NOT(ISNUMBER(G18)),"n/a",IF(G18<=DATE(YEAR(G18),4,30),DATE(YEAR(G18),4,30),IF(G18<=DATE(YEAR(G18),10,31),DATE(YEAR(G18),10,31),DATE(YEAR(G18)+1,4,30)))) -> 45230 | I18: =IF(NOT(ISNUMBER(E18)),"n/a",ROUND((E18-D18)/30.44,0)) -> 6 | J18: =IF(NOT(ISNUMBER(G18)),"n/a",ROUND((G18-D18)/30.44,0)) -> 12 | K18: =IF(D18>Assumptions!$B$3,"Planned",IF(AND(ISNUMBER(H18),Assumptions!$B$3>H18),"Out of support",IF(AND(ISNUMBER(F18),Assumptions!$B$3>F18),"Extended support","Standard support"))) -> Out of support
... A32: v4.11 | B32: BlueMarble Commerce Apr 2027 | C32: Commerce, B2B | D32: 46507 | E32: =IF(ROW()+Assumptions!$B$4>32,"n/a",OFFSET(D32,Assumptions!$B$4,0)) -> n/a | F32: =IF(NOT(ISNUMBER(E32)),"n/a",IF(E32<=DATE(YEAR(E32),4,30),DATE(YEAR(E32),4,30),IF(E32<=DATE(YEAR(E32),10,31),DATE(YEAR(E32),10,31),DATE(YEAR(E32)+1,4,30)))) -> n/a | G32: =IF(ROW()+Assumptions!$B$5>32,"n/a",OFFSET(D32,Assumptions!$B$5,0)) -> n/a | H32: =IF(NOT(ISNUMBER(G32)),"n/a",IF(G32<=DATE(YEAR(G32),4,30),DATE(YEAR(G32),4,30),IF(G32<=DATE(YEAR(G32),10,31),DATE(YEAR(G32),10,31),DATE(YEAR(G32)+1,4,30)))) -> n/a | I32: =IF(NOT(ISNUMBER(E32)),"n/a",ROUND((E32-D32)/30.44,0)) -> n/a | J32: =IF(NOT(ISNUMBER(G32)),"n/a",ROUND((G32-D32)/30.44,0)) -> n/a | K32: =IF(D32>Assumptions!$B$3,"Planned",IF(AND(ISNUMBER(H32),Assumptions!$B$3>H32),"Out of support",IF(AND(ISNUMBER(F32),Assumptions!$B$3>F32),"Extended support","Standard support"))) -> Planned
A34: "n/a" = the reference release (vN+2 / vN+4) does not exist yet, so no EoS/EoSS date can be derived. This is a structural limitation of a release-relative rule — see the Findings sheet.
A35: Green = derived by formula from the GA column and the Assumptions sheet. Black bold = GA date read from Aha (source data).

Sheet Assumptions
A1: Assumptions & levers
A2: Edit the yellow cells; the Release Lifecycle sheet recalculates.
A3: As-of date (drives the Status column) | B3: 46238 | C3: Date the support status is evaluated against. Compared to the PUBLISHED (snapped) EoS/EoSS dates.
A4: EoS offset (releases after GA) | B4: 2 | C4: EoS(vN) = GA date of the release this many positions later. Confirmed by Jens Voigt, 04-Aug-2026, as current BlueMarble practice.
A5: EoSS offset (releases after GA) | B5: 4 | C5: EoSS(vN) = GA date of the release this many positions later. Confirmed by Jens Voigt, 04-Aug-2026.
A7: Published-date snapping | B7: Next 30 April or 31 October on or after the exact date | C7: Per policy SWPSLP00 rev A/03: EoS/EoSS dates are aligned to 30 Apr or 31 Oct. Hardcoded in the sheet formulas.
A9: Data source | B9: Aha! workspace DAPPS — 26 releases, v2.3 (Aug 2019) to v4.11 (Apr 2027) | C9: GA date = the Aha release_date field. Aha holds no EoS/EoSS fields; every such date here is derived.
A10: Policy reference | B10: SWPSLP00 rev A/03, 24-Aug-2022 | C10: Product (Version) Support Lifecycle Policy. NOTE: states support in YEARS ('X' years) — contradicts the offset rule above. See Findings.
